BEGIN:VCALENDAR
VERSION:2.0
PRODID:-//Concord Prison Outreach - ECPv6.15.20//NONSGML v1.0//EN
CALSCALE:GREGORIAN
METHOD:PUBLISH
X-ORIGINAL-URL:https://concordprisonoutreach.org
X-WR-CALDESC:Events for Concord Prison Outreach
REFRESH-INTERVAL;VALUE=DURATION:PT1H
X-Robots-Tag:noindex
X-PUBLISHED-TTL:PT1H
BEGIN:VTIMEZONE
TZID:UTC
BEGIN:STANDARD
TZOFFSETFROM:+0000
TZOFFSETTO:+0000
TZNAME:UTC
DTSTART:20220101T000000
END:STANDARD
END:VTIMEZONE
BEGIN:VEVENT
DTSTART;TZID=UTC:20230306T180000
DTEND;TZID=UTC:20230306T200000
DTSTAMP:20260419T153432
CREATED:20230130T021432Z
LAST-MODIFIED:20230303T025118Z
UID:3208-1678125600-1678132800@concordprisonoutreach.org
SUMMARY:Spring Discussion Series - Who’s Really Counting?
DESCRIPTION:21st Century America: The Re-Emergence of Hate Crimes\nMarch 6\, 2023: Who’s Really Counting?: National Inconsistencies in Data Collection \nConcord Prison Outreach invites you to our Spring Community Discussion series entitled “21st Century America: The Re-Emergence of Hate Crimes.” \nThis five-week series will examine the intersections between social science data\, cultural attitudes and beliefs\, regionalism\, policymaking\, and health focus interventions. Using a trauma-informed format\, we intend to apply Restorative Justice principles and practices\, breath work\, storytelling\, and active listening skills to explore\, understand\, and develop practical solutions to identify hate motivated crimes in our community. \nLocation: Trinitarian Congregational Church\, 54 Walden Street\, Concord\, MA and via Zoom livestream \nTime: 6:00pm-8:00pm \nMain Speaker: Sam Williams\, Executive Director\, Concord Prison Outreach \nGuest Speaker: Jack McDevitt\, Professor of Criminology and Criminal Justice\, Northeastern University \n  \nTO REGISTER\nThis series will be offered both in-person and via Zoom. Please RSVP for the event below:  \nRegister for the in-person event here.\nRegister for the Zoom livestream here.\n\n———\nUpcoming Weekly Discussion Themes: \n\nMarch 13\, 2023: Sharing Your Story: It Happened to Me Too\nMarch 20\, 2023: Whose Heritage?: Building\, Monuments\, and Roadways\nMarch 27\, 2023: Moving Beyond Hate: Restorative Action Planning
URL:https://concordprisonoutreach.org/events/weekly-discussion-whos-really-counting/
LOCATION:Trinitarian Congregational Church\, 54 Walden St\, Concord\, 01742\, United States
CATEGORIES:Weekly Discussion
ATTACH;FMTTYPE=image/jpeg:https://concordprisonoutreach.org/wp-content/uploads/2023/01/mika-baumeister-Wpnoqo2plFA-unsplash-scaled.jpg
END:VEVENT
END:VCALENDAR