BEGIN:VCALENDAR
VERSION:2.0
PRODID:-//Concord Prison Outreach - ECPv6.15.20//NONSGML v1.0//EN
CALSCALE:GREGORIAN
METHOD:PUBLISH
X-ORIGINAL-URL:https://concordprisonoutreach.org
X-WR-CALDESC:Events for Concord Prison Outreach
REFRESH-INTERVAL;VALUE=DURATION:PT1H
X-Robots-Tag:noindex
X-PUBLISHED-TTL:PT1H
BEGIN:VTIMEZONE
TZID:UTC
BEGIN:STANDARD
TZOFFSETFROM:+0000
TZOFFSETTO:+0000
TZNAME:UTC
DTSTART:20220101T000000
END:STANDARD
END:VTIMEZONE
BEGIN:VEVENT
DTSTART;TZID=UTC:20230310T120000
DTEND;TZID=UTC:20230310T130000
DTSTAMP:20260419T154030
CREATED:20230301T233554Z
LAST-MODIFIED:20230305T193825Z
UID:4380-1678449600-1678453200@concordprisonoutreach.org
SUMMARY:Volunteer Weekly Book Discussion
DESCRIPTION:Current book we are reading/discussing is I Don’t Want to Talk About It by Terrence Real. \nFor the volunteer book group\, we meet Fridays\, from 12-1pm on Zoom. Our last scheduled meeting will be Friday\, March 31th. \nThis meeting is held virtually and can be accessed by the button below: \nLog on to Zoom Meeting Here\n  \nAvailable on Amazon >
URL:https://concordprisonoutreach.org/events/weekly-book-discussion/
LOCATION:Online Zoom Meeting
CATEGORIES:Volunteering
ATTACH;FMTTYPE=image/jpeg:https://concordprisonoutreach.org/wp-content/uploads/2022/12/Humanities-Interior2.jpg
END:VEVENT
END:VCALENDAR