BEGIN:VCALENDAR
VERSION:2.0
PRODID:-//Concord Prison Outreach - ECPv6.15.20//NONSGML v1.0//EN
CALSCALE:GREGORIAN
METHOD:PUBLISH
X-WR-CALNAME:Concord Prison Outreach
X-ORIGINAL-URL:https://concordprisonoutreach.org
X-WR-CALDESC:Events for Concord Prison Outreach
REFRESH-INTERVAL;VALUE=DURATION:PT1H
X-Robots-Tag:noindex
X-PUBLISHED-TTL:PT1H
BEGIN:VTIMEZONE
TZID:America/New_York
BEGIN:DAYLIGHT
TZOFFSETFROM:-0500
TZOFFSETTO:-0400
TZNAME:EDT
DTSTART:20220313T070000
END:DAYLIGHT
BEGIN:STANDARD
TZOFFSETFROM:-0400
TZOFFSETTO:-0500
TZNAME:EST
DTSTART:20221106T060000
END:STANDARD
BEGIN:DAYLIGHT
TZOFFSETFROM:-0500
TZOFFSETTO:-0400
TZNAME:EDT
DTSTART:20230312T070000
END:DAYLIGHT
BEGIN:STANDARD
TZOFFSETFROM:-0400
TZOFFSETTO:-0500
TZNAME:EST
DTSTART:20231105T060000
END:STANDARD
BEGIN:DAYLIGHT
TZOFFSETFROM:-0500
TZOFFSETTO:-0400
TZNAME:EDT
DTSTART:20240310T070000
END:DAYLIGHT
BEGIN:STANDARD
TZOFFSETFROM:-0400
TZOFFSETTO:-0500
TZNAME:EST
DTSTART:20241103T060000
END:STANDARD
END:VTIMEZONE
BEGIN:VEVENT
DTSTART;TZID=America/New_York:20230331T120000
DTEND;TZID=America/New_York:20230331T130000
DTSTAMP:20260419T140046
CREATED:20230305T193323Z
LAST-MODIFIED:20230305T193409Z
UID:4741-1680264000-1680267600@concordprisonoutreach.org
SUMMARY:Volunteer Weekly Book Discussion
DESCRIPTION:Current book we are reading/discussing is I Don’t Want to Talk About It by Terrence Real. \nFor the volunteer book group\, we meet Fridays\, from 12-1pm on Zoom. Our last scheduled meeting will be Friday\, March 31th. \nThis meeting is held virtually and can be accessed by the button below: \nLog on to Zoom Meeting Here\n  \nAvailable on Amazon >
URL:https://concordprisonoutreach.org/events/volunteer-weekly-book-discussion-2/
LOCATION:Online Zoom Meeting
CATEGORIES:Volunteering
ATTACH;FMTTYPE=image/jpeg:https://concordprisonoutreach.org/wp-content/uploads/2016/08/humanities2.jpg
END:VEVENT
END:VCALENDAR