BEGIN:VCALENDAR
VERSION:2.0
PRODID:-//Concord Prison Outreach - ECPv6.15.20//NONSGML v1.0//EN
CALSCALE:GREGORIAN
METHOD:PUBLISH
X-ORIGINAL-URL:https://concordprisonoutreach.org
X-WR-CALDESC:Events for Concord Prison Outreach
REFRESH-INTERVAL;VALUE=DURATION:PT1H
X-Robots-Tag:noindex
X-PUBLISHED-TTL:PT1H
BEGIN:VTIMEZONE
TZID:America/New_York
BEGIN:DAYLIGHT
TZOFFSETFROM:-0500
TZOFFSETTO:-0400
TZNAME:EDT
DTSTART:20250309T070000
END:DAYLIGHT
BEGIN:STANDARD
TZOFFSETFROM:-0400
TZOFFSETTO:-0500
TZNAME:EST
DTSTART:20251102T060000
END:STANDARD
BEGIN:DAYLIGHT
TZOFFSETFROM:-0500
TZOFFSETTO:-0400
TZNAME:EDT
DTSTART:20260308T070000
END:DAYLIGHT
BEGIN:STANDARD
TZOFFSETFROM:-0400
TZOFFSETTO:-0500
TZNAME:EST
DTSTART:20261101T060000
END:STANDARD
BEGIN:DAYLIGHT
TZOFFSETFROM:-0500
TZOFFSETTO:-0400
TZNAME:EDT
DTSTART:20270314T070000
END:DAYLIGHT
BEGIN:STANDARD
TZOFFSETFROM:-0400
TZOFFSETTO:-0500
TZNAME:EST
DTSTART:20271107T060000
END:STANDARD
END:VTIMEZONE
BEGIN:VEVENT
DTSTART;TZID=America/New_York:20260314T090000
DTEND;TZID=America/New_York:20260314T150000
DTSTAMP:20260422T185028
CREATED:20260206T172321Z
LAST-MODIFIED:20260212T142119Z
UID:13485-1773478800-1773500400@concordprisonoutreach.org
SUMMARY:Concord Prison Outreach 2-Day Restorative Justice Training March 2026
DESCRIPTION:Concord Prison Outreach 2-Day Restorative Justice Training\nThis 2-day Restorative Justice training is designed for individuals who are interested in and committed to facilitating the Restorative Justice Book Group program at one of the following facilities: MCI-Framingham\, MCI-Norfolk\, MCI-Shirley\, Middlesex House of Correction\, North Central Correctional Institution\, Pondville Correctional Center\, and Worcester County Jail. \nParticipants in the training will form a “circle” of engagement\, making full attendance essential for a complete and cohesive learning experience. We kindly ask that only those able to attend both sessions register\, as full participation is crucial to both the material and group dynamics. If you are unable to commit to both days\, please consider joining us for a future training session. \n\nRegister HereTraining Overview:\nWhat: 2-Day Restorative Justice Training\nInstructor: Sam Williams\, lead facilitator \nTraining Schedule:\nDay 1: Saturday\, March 14\, 9:00-3:00 PM \nDay 2: Sunday\, March 28\, 9:00-3:00 PM \nLocation: West Concord Union Church\, 1317 Main St\, Concord\, MA 01742\nDuring this comprehensive training\, you will gain insights into restorative justice theories\, practices\, principles\, trauma-informed practices\, and group facilitation skills. The objective is to equip you with the necessary skills to effectively facilitate our Restorative Justice Reading Group programs. \nTo express your interest in participating\, please register here or go to rjcpo.eventbrite.com. Spots are limited!
URL:https://concordprisonoutreach.org/events/concord-prison-outreach-2-day-restorative-justice-training-march-2026/
LOCATION:West Concord Union Church\, 1317 Main Street\, Concord\, MA\, 01742
CATEGORIES:Community Event,Volunteering
ATTACH;FMTTYPE=image/png:https://concordprisonoutreach.org/wp-content/uploads/2026/02/Untitled-design-2-copy.png
END:VEVENT
BEGIN:VEVENT
DTSTART;TZID=America/New_York:20260420T080000
DTEND;TZID=America/New_York:20260420T130000
DTSTAMP:20260422T185028
CREATED:20260324T182919Z
LAST-MODIFIED:20260324T182919Z
UID:13542-1776672000-1776690000@concordprisonoutreach.org
SUMMARY:Patriots’ Day Parade: Sign up to march with us!
DESCRIPTION:We are so excited to once again be marching in the Concord Patriots’ Day Parade on April 20th\, 2026! If you’d like to walk alongside our team and show your support\, we’d love to have you join us. \nPlease fill out the sign-up form below to participate. \nJOIN CPO AT THE PARADE!
URL:https://concordprisonoutreach.org/events/patriots-day-parade-sign-up-to-march-with-us/
LOCATION:Concord\, MA\, Main Street\, Concord\, 01742\, United States
ATTACH;FMTTYPE=image/jpeg:https://concordprisonoutreach.org/wp-content/uploads/2025/12/IMG_8313.jpg
END:VEVENT
BEGIN:VEVENT
DTSTART;TZID=America/New_York:20260424T100000
DTEND;TZID=America/New_York:20260424T110000
DTSTAMP:20260422T185029
CREATED:20260410T142827Z
LAST-MODIFIED:20260422T160735Z
UID:13593-1777024800-1777028400@concordprisonoutreach.org
SUMMARY:Community Book Discussion Group: Until We Reckon by Danielle Sered
DESCRIPTION:Community Book Discussion Group: Until We Reckon by Danielle SeredWe’re excited to host another book discussion group on Until We Reckon by Danielle Sered. This book explores themes of violence\, mass incarceration\, and restorative justice. This group will meet on Fridays from 10:00-11:00 AM via Zoom. All are welcome to this open group; you do not need to be an active CPO volunteer to participate! \nFull Event Schedule & Details: \nZoom Meeting Link Here \nApril 24: Introductory Meeting  \nMay 8: Discussion of Chapters 1& 2  \nMay 22: Chapters 3\, 4\, & 5 \nJune 12: Chapters 6 & 7 \nIf interested\, please email:\ncarley@concordprisonoutreach.org \nZoom Meeting Link HereBook ReviewUntil We Reckon: Violence\, Mass Incarceration\, and a Road to Repair by Danielle Sered\nSubmitted by Alison Ruch\nSered not only tears apart the idea that mass incarceration succeeds at addressing what a victim of violence considers just – safety\, accountability\, and equitable application – but also exposes even deeper underlying issue: the system does aim towards the same goals as the victims in the first place.  From the start\, Sered convincingly offers the undeniable conclusion that until success is measured by survivor-centered ends\, the system does not and cannot adequately\, or even remotely\, enable victims to begin the healing process. \nThe arguments in Until We Reckon are meticulously crafted\, a seamlessly flowing mix of emotional appeals\, statistics\, and case studies to cement every assertion along the way. This intensively comprehensive yet easily digestible plea is a must read for anyone swept up in the intumesce of the debate over the appropriateness of mass incarceration. \nAvailable on Amazon > \nLearn more about the author > \nBook Talk: Until We Reckon: Violence\, Mass Incarceration\, and a Road to Repair
URL:https://concordprisonoutreach.org/events/community-book-discussion-group-until-we-reckon-by-danielle-sered/
LOCATION:Online Zoom Meeting
ATTACH;FMTTYPE=image/jpeg:https://concordprisonoutreach.org/wp-content/uploads/2026/04/until-we-reckkon.jpg
END:VEVENT
BEGIN:VEVENT
DTSTART;TZID=America/New_York:20260501T130000
DTEND;TZID=America/New_York:20260501T160000
DTSTAMP:20260422T185029
CREATED:20260324T181826Z
LAST-MODIFIED:20260422T155155Z
UID:13536-1777640400-1777651200@concordprisonoutreach.org
SUMMARY:CPO Community Picnic
DESCRIPTION:Mark your calendars and stay tuned for more details about CPO’s Community PicnicThe event begins at 1:00 PM on May 1st\, located at Gerow Pavilion\, along the Bruce Freeman Rail Trail in Concord\, MA. We may even get to see some blooming daffodils that CPO volunteers planted last fall at the Concord Reformatory Cemetery! \nBring your chairs/blankets and your favorite picnic food to share as we commemorate May Day. \nBring your family and friends. A free ice cream truck will be available!  \nLet us know you’re coming\, Sign Up Below. \nSign Up For Event Here
URL:https://concordprisonoutreach.org/events/cpo-community-picnic/
LOCATION:Gerow Pavilion\, 369 Commonwealth Ave\, concord\, 01742\, United States
ATTACH;FMTTYPE=image/jpeg:https://concordprisonoutreach.org/wp-content/uploads/2026/03/Community-Picnic.jpg
END:VEVENT
BEGIN:VEVENT
DTSTART;TZID=America/New_York:20260528T190000
DTEND;TZID=America/New_York:20260528T203000
DTSTAMP:20260422T185029
CREATED:20260410T155203Z
LAST-MODIFIED:20260422T152901Z
UID:13599-1779994800-1780000200@concordprisonoutreach.org
SUMMARY:Continuous Education Dialogue: May 2026
DESCRIPTION:We invite you to join Concord Prison Outreach’s\nMonthly Volunteer Network DialoguesAn engaging and reflective space designed to deepen your understanding and strengthen your impact as a volunteer. This ongoing series explores critical topics such as social and criminal justice\, health and healing\, trauma-informed leadership\, and best practices for working with vulnerable populations in prison settings. \nEach session offers a meaningful opportunity to learn about real-time justice events\, reflect\, and connect with others who are committed to this work. Together\, we will build the knowledge\, awareness\, and skills needed to serve with compassion\, intentionality\, and effectiveness.  \nEvent Details:\nHeld on Zoom on the fourth Thursday of each month\nMay’s Monthly Dialogue: Thursday\, May 28\nTime: 7:00–8:30 PM\nZOOM REGISTRTION HERE
URL:https://concordprisonoutreach.org/events/continuous-education-dialogue-may-2026/
LOCATION:Online Zoom Meeting
ATTACH;FMTTYPE=image/jpeg:https://concordprisonoutreach.org/wp-content/uploads/2026/04/continuous-Education-1.jpg
END:VEVENT
BEGIN:VEVENT
DTSTART;TZID=America/New_York:20260531T140000
DTEND;TZID=America/New_York:20260531T160000
DTSTAMP:20260422T185029
CREATED:20260403T161750Z
LAST-MODIFIED:20260422T154302Z
UID:13578-1780236000-1780243200@concordprisonoutreach.org
SUMMARY:Interfaith Gathering: Faith Over Fear
DESCRIPTION:Bringing together diverse faith communities to connect and build partnerships rooted in compassion and justice.PLEASE RSVP TO JEANNETTE:\nEmail: JEANNETTE@CONCORDPRISONOUTREACH.ORG\nPhone: 978-369-1430 \nEvent Details: \nHosted by First Parish in Concord\, 20 Lexington Rd\, Concord\, MA 01879 \nSponsored by Their Racial Justice Action Group \nLight refreshments will be served
URL:https://concordprisonoutreach.org/events/interfaith-gathering-faith-over-fear/
LOCATION:First Parish in Concord\, 20 Lexington Rd\, Concord\, MA\, 01742\, United States
ATTACH;FMTTYPE=image/jpeg:https://concordprisonoutreach.org/wp-content/uploads/2026/04/interfaith.jpg
END:VEVENT
BEGIN:VEVENT
DTSTART;TZID=America/New_York:20260613T100000
DTEND;TZID=America/New_York:20260613T163000
DTSTAMP:20260422T185029
CREATED:20260415T171416Z
LAST-MODIFIED:20260422T161144Z
UID:13608-1781344800-1781368200@concordprisonoutreach.org
SUMMARY:Concord Prison Outreach 2-Day Restorative Justice Training June 2026
DESCRIPTION:Concord Prison Outreach 2-Day Restorative Justice Training\nThis 2-day Restorative Justice training is designed for individuals who are interested in and committed to facilitating the Restorative Justice Book Group program at one of the following facilities: MCI-Framingham\, MCI-Norfolk\, MCI-Shirley\, Middlesex House of Correction\, North Central Correctional Institution\, Pondville Correctional Center\, and Worcester County Jail. \nParticipants in the training will form a “circle” of engagement\, making full attendance essential for a complete and cohesive learning experience. We kindly ask that only those able to attend both sessions register\, as full participation is crucial to both the material and group dynamics. If you are unable to commit to both days\, please consider joining us for a future training session. \n\nRegister HereTraining Overview:\nWhat: 2-Day Restorative Justice Training\nInstructor: Sam Williams\, lead facilitator \nTraining Schedule:\nDay 1: Saturday\, June 13\, 10:00-4:30 \nDay 2: Sunday\, June 14\, 10:00-4:30 \nLocation: Northeastern University\nAddress: 380 Huntington Ave\, Boston\, MA 02115 – Churchill Hall\, Room 301\nDuring this comprehensive training\, you will gain insights into restorative justice theories\, practices\, principles\, trauma-informed practices\, and group facilitation skills. The objective is to equip you with the necessary skills to effectively facilitate our Restorative Justice Reading Group programs. \nTo express your interest in participating\, please register here or go to cpo-rj.eventbrite.com. Spots are limited!
URL:https://concordprisonoutreach.org/events/concord-prison-outreach-2-day-restorative-justice-training-march-2026-2/
LOCATION:Northeastern University\, 360 Huntington Ave\, Boston\, MA\, 02115\, United States
CATEGORIES:Community Event,Volunteering
ATTACH;FMTTYPE=image/jpeg:https://concordprisonoutreach.org/wp-content/uploads/2026/04/Restorative-Justice-Training.jpg
END:VEVENT
END:VCALENDAR