BEGIN:VCALENDAR
VERSION:2.0
PRODID:-//Concord Prison Outreach - ECPv6.15.20//NONSGML v1.0//EN
CALSCALE:GREGORIAN
METHOD:PUBLISH
X-ORIGINAL-URL:https://concordprisonoutreach.org
X-WR-CALDESC:Events for Concord Prison Outreach
REFRESH-INTERVAL;VALUE=DURATION:PT1H
X-Robots-Tag:noindex
X-PUBLISHED-TTL:PT1H
BEGIN:VTIMEZONE
TZID:America/New_York
BEGIN:DAYLIGHT
TZOFFSETFROM:-0500
TZOFFSETTO:-0400
TZNAME:EDT
DTSTART:20220313T070000
END:DAYLIGHT
BEGIN:STANDARD
TZOFFSETFROM:-0400
TZOFFSETTO:-0500
TZNAME:EST
DTSTART:20221106T060000
END:STANDARD
BEGIN:DAYLIGHT
TZOFFSETFROM:-0500
TZOFFSETTO:-0400
TZNAME:EDT
DTSTART:20230312T070000
END:DAYLIGHT
BEGIN:STANDARD
TZOFFSETFROM:-0400
TZOFFSETTO:-0500
TZNAME:EST
DTSTART:20231105T060000
END:STANDARD
BEGIN:DAYLIGHT
TZOFFSETFROM:-0500
TZOFFSETTO:-0400
TZNAME:EDT
DTSTART:20240310T070000
END:DAYLIGHT
BEGIN:STANDARD
TZOFFSETFROM:-0400
TZOFFSETTO:-0500
TZNAME:EST
DTSTART:20241103T060000
END:STANDARD
END:VTIMEZONE
BEGIN:VEVENT
DTSTART;TZID=America/New_York:20230507T150000
DTEND;TZID=America/New_York:20230507T163000
DTSTAMP:20260419T104109
CREATED:20240603T184914Z
LAST-MODIFIED:20240603T184914Z
UID:5807-1683471600-1683477000@concordprisonoutreach.org
SUMMARY:Interfaith Gathering
DESCRIPTION:Concord Prison Outreach Presents \nInterfaith Gathering \nJoin CPO as we give thanks to our faith partners and foster new connections throughout the community \nSunday\, May 7th\, 3:00-4:30pm \nFirst Parish in Concord
URL:https://concordprisonoutreach.org/events/interfaith-gathering/
LOCATION:First Parish in Concord\, 20 Lexington Rd\, Concord\, MA\, 01742\, United States
CATEGORIES:Community Event
ATTACH;FMTTYPE=image/png:https://concordprisonoutreach.org/wp-content/uploads/2024/05/Interfaith-Gathering.png
END:VEVENT
END:VCALENDAR