BEGIN:VCALENDAR
VERSION:2.0
PRODID:-//Concord Prison Outreach - ECPv6.15.20//NONSGML v1.0//EN
CALSCALE:GREGORIAN
METHOD:PUBLISH
X-ORIGINAL-URL:https://concordprisonoutreach.org
X-WR-CALDESC:Events for Concord Prison Outreach
REFRESH-INTERVAL;VALUE=DURATION:PT1H
X-Robots-Tag:noindex
X-PUBLISHED-TTL:PT1H
BEGIN:VTIMEZONE
TZID:America/New_York
BEGIN:DAYLIGHT
TZOFFSETFROM:-0500
TZOFFSETTO:-0400
TZNAME:EDT
DTSTART:20220313T070000
END:DAYLIGHT
BEGIN:STANDARD
TZOFFSETFROM:-0400
TZOFFSETTO:-0500
TZNAME:EST
DTSTART:20221106T060000
END:STANDARD
BEGIN:DAYLIGHT
TZOFFSETFROM:-0500
TZOFFSETTO:-0400
TZNAME:EDT
DTSTART:20230312T070000
END:DAYLIGHT
BEGIN:STANDARD
TZOFFSETFROM:-0400
TZOFFSETTO:-0500
TZNAME:EST
DTSTART:20231105T060000
END:STANDARD
BEGIN:DAYLIGHT
TZOFFSETFROM:-0500
TZOFFSETTO:-0400
TZNAME:EDT
DTSTART:20240310T070000
END:DAYLIGHT
BEGIN:STANDARD
TZOFFSETFROM:-0400
TZOFFSETTO:-0500
TZNAME:EST
DTSTART:20241103T060000
END:STANDARD
END:VTIMEZONE
BEGIN:VEVENT
DTSTART;TZID=America/New_York:20230615T183000
DTEND;TZID=America/New_York:20230615T193000
DTSTAMP:20260419T091445
CREATED:20240603T184750Z
LAST-MODIFIED:20240603T184750Z
UID:5811-1686853800-1686857400@concordprisonoutreach.org
SUMMARY:Naming the Unnamed
DESCRIPTION:NAMING THE UNNAMED \nBRINGING TO LIFE THE MEN BURIED AT CONCORD REFORMATORY CEMETERY \nCelebrating the illustrations of MassArt students for their work in the project “Naming the Unnamed.” \nThis project commemorates the lives of the men buried at the Concord Reformatory Cemetery\, located adjacent to the Bruce Freeman Rail Trail. \nWednesday\, June 15th 6:30-7:30PM \nConcord Free Public Library \n129 Main St\, Concord\, MA 01742\nor via Zoom \nSponsored by: \nConcord Prison Outreach \nBruce Freeman Rail Trail Advisory Committee \nFriends of the Concord Free Public Library
URL:https://concordprisonoutreach.org/events/naming-the-unnamed/
LOCATION:Concord Free Public Library\, 129 Main St\, Concord\, 01742\, United States
CATEGORIES:Community Event
ATTACH;FMTTYPE=image/png:https://concordprisonoutreach.org/wp-content/uploads/2024/05/Naming-the-Unnamed.png
END:VEVENT
END:VCALENDAR